BEGIN:VCALENDAR
VERSION:2.0
PRODID:-//Paul-Moor-Schule Wehretal-Reichensachsen - ECPv6.11.2//NONSGML v1.0//EN
CALSCALE:GREGORIAN
METHOD:PUBLISH
X-WR-CALNAME:Paul-Moor-Schule Wehretal-Reichensachsen
X-ORIGINAL-URL:https://paul-moor-schule-wehretal.de
X-WR-CALDESC:Veranstaltungen für Paul-Moor-Schule Wehretal-Reichensachsen
REFRESH-INTERVAL;VALUE=DURATION:PT1H
X-Robots-Tag:noindex
X-PUBLISHED-TTL:PT1H
BEGIN:VTIMEZONE
TZID:Europe/Berlin
BEGIN:DAYLIGHT
TZOFFSETFROM:+0100
TZOFFSETTO:+0200
TZNAME:CEST
DTSTART:20260329T010000
END:DAYLIGHT
BEGIN:STANDARD
TZOFFSETFROM:+0200
TZOFFSETTO:+0100
TZNAME:CET
DTSTART:20261025T010000
END:STANDARD
END:VTIMEZONE
BEGIN:VEVENT
DTSTART;VALUE=DATE:20260413
DTEND;VALUE=DATE:20260425
DTSTAMP:20260421T103045
CREATED:20250902T203540Z
LAST-MODIFIED:20250902T203540Z
UID:13583-1776038400-1777075199@paul-moor-schule-wehretal.de
SUMMARY:Praktikum BOST 2
DESCRIPTION:
URL:https://paul-moor-schule-wehretal.de/termin/praktikum-bost-2-4/
CATEGORIES:Schülergruppen
END:VEVENT
BEGIN:VEVENT
DTSTART;VALUE=DATE:20260427
DTEND;VALUE=DATE:20260509
DTSTAMP:20260421T103045
CREATED:20250902T203702Z
LAST-MODIFIED:20250902T203702Z
UID:13585-1777248000-1778284799@paul-moor-schule-wehretal.de
SUMMARY:Praktikum BOST 1
DESCRIPTION:
URL:https://paul-moor-schule-wehretal.de/termin/praktikum-bost-1-3/
CATEGORIES:Schülergruppen
END:VEVENT
END:VCALENDAR